BEGIN:VCALENDAR
VERSION:2.0
PRODID:icalendar-ruby
CALSCALE:GREGORIAN
METHOD:PUBLISH
BEGIN:VEVENT
DTSTAMP:20260421T081617Z
UID:1209d7bb-147c-412b-a580-e0427cf56107
DTSTART:20250816T090000
DTEND:20250816T180000
DESCRIPTION:<h3><strong style="color: rgb(78\, 75\, 75)\;">Join Africa's La
 rgest Fintech Event！</strong></h3><h3><br></h3><h3><strong style="color:
  rgb(78\, 75\, 75)\;">Fintech\, Forex\, Crypto\, Digital Assets\, Payments
  & AI will be in focus.</strong></h3><p><br></p><h3><strong style="color: 
 rgb(78\, 75\, 75)\;">Completely Free for Attendees! </strong></h3><h3><br>
 </h3><h3><strong style="color: rgb(78\, 75\, 75)\;">Please avoid registeri
 ng on Howler\, as it may incur a fee. </strong></h3><h3><strong style="col
 or: rgb(78\, 75\, 75)\;">Click here to visit the event website to sign up 
 for free:</strong></h3><h3><a href="https://bit.ly/wikiexpo_Africa2025" ta
 rget="_blank" style="color: rgb(9\, 132\, 225)\;"><strong>https://bit.ly/w
 ikiexpo_Africa2025</strong></a></h3><h3><br></h3><p><span style="color: rg
 b(113\, 111\, 111)\;">WIKI FINANCE EXPO JOHANNESBURG 2025 lands in Johanne
 sburg on August 16\, 2025\, delivering an unparalleled financial technolog
 y experience. As the world’s largest fintech event\, this expo will brin
 g together over 10\,000 attendees and 3\,000 top-tier companies\, showcasi
 ng the latest trends and breakthroughs in Fintech\, Forex\, Cryptocurrency
 \, Online Trading\, and Artificial Intelligence.</span></p><h3><br></h3><h
 3><strong style="color: rgb(113\, 111\, 111)\;">Who Should Attend?</strong
 ></h3><p><span style="color: rgb(113\, 111\, 111)\;">-Traders & Investors:
  Forex\, crypto\, and stock traders\, retail and institutional investors\,
  sales.</span></p><p><span style="color: rgb(113\, 111\, 111)\;">-Financia
 l Professionals: Brokers\, affiliates\, IBs\, fund managers\, and bankers.
 </span></p><p><span style="color: rgb(113\, 111\, 111)\;">-Blockchain & We
 b3 Innovators: Developers\, project owners\, and DeFi/NFT pioneers.</span>
 </p><p><span style="color: rgb(113\, 111\, 111)\;">-Fintech & AI Experts: 
 Startups and professionals in payments\, lending\, and liquidity solutions
 .</span></p><p><span style="color: rgb(113\, 111\, 111)\;">-Entrepreneurs 
 & VCs: Founders and investors seeking fintech and blockchain opportunities
 .</span></p><p><span style="color: rgb(113\, 111\, 111)\;">-Influencers & 
 Media: Content creators\, bloggers\, and journalists covering finance.</sp
 an></p><p><span style="color: rgb(113\, 111\, 111)\;">-Regulators & Academ
 ics: Policymakers\, researchers\, and students shaping financial futures.<
 /span></p><p><br></p><h2><strong style="color: rgb(113\, 111\, 111)\;">Abo
 ut WikiEXPO</strong></h2><p><span style="color: rgb(113\, 111\, 111)\;">Wi
 kiExpo is the world's leading financial exhibition and fintech conference 
 brand\, holding large summits annually in Singapore\, Sydney\, Dubai\, Hon
 g Kong\, and Bangkok to gather and connect global high-quality resources f
 or exhibitors and participants\, which include enterprises\, start-ups\, p
 roject owners\, investors and practitioners in the fields of blockchain\, 
 fintech and forex. In addition\, we create thousands of cooperation opport
 unities for the industry every year.</span></p><p><br></p><h3><strong styl
 e="color: rgb(113\, 111\, 111)\;">To Purchase a sponsorship or booth\, ema
 il:</strong></h3><h3><strong style="color: rgb(113\, 111\, 111)\;">loki@wi
 kiglobal.com</strong></h3><p><br></p><p><br></p>
LOCATION:161 Maude Street Sandton\, GP 2196 South Africa
SUMMARY:WIKI FINANCE EXPO JOHANNESBURG 2025 (Africa's Largest Fintech\, For
 ex & Crypto Event)
URL;VALUE=URI:https://www.howler.co.za/WIKIEXPO-JOHANNESBURG-2025
END:VEVENT
END:VCALENDAR
