BEGIN:VCALENDAR
VERSION:2.0
PRODID:icalendar-ruby
CALSCALE:GREGORIAN
METHOD:PUBLISH
BEGIN:VEVENT
DTSTAMP:20260423T155747Z
UID:1e42fd43-fef3-44e3-97a3-9d3ab0698a99
DTSTART:20191231T180000
DTEND:20200101T020000
DESCRIPTION:<p>Wine Not Events presents 2020 </p><p>Welcome the New Year i
 n Style at Levelthree Premium Venue!</p><p><br></p><p>Join us for the last
  sunset of 2019 and party until the dawn of 2020!</p><p><br></p><p>- Preso
 ld tickets R900</p><p>- Includes food\, soft drinks\, select wine\, premiu
 m beer & spirits</p><p>- Time 4pm till 2am</p><p>- Live entertainment and 
 DJ’s throughout the night</p><p>- Dress code: With a dash of flair & spa
 rkle</p><p>- Strictly no under 21's.</p><p>- Cash and cards accepted.</p><
 p>- Right of admission reserved.</p><p><br></p><p>[Unlimited Alcohol List 
 Below]</p><p><br></p><p>- Spirits</p><p><br></p><p>Johnny Walker Black</p>
 <p>Ciroc Vodka</p><p>Tanqueray</p><p>Klipdrift Premium</p><p>Bulliet Bourb
 on</p><p>Don Julio Tequila</p><p>Jagermeister</p><p>Strawberry Lips</p><p>
 <br></p><p>- Beer</p><p><br></p><p>Heineken</p><p>Sol</p><p>Strongbow</p><
 p> </p><p>- Wine / Champagne</p><p><br></p><p>Leopards Leap Sauvignon Bla
 nc</p><p>Leopards Leap Cabernet Sauvignon</p><p>Brampton Sauvignon Blanc</
 p><p>Brampton Old Vines Red</p><p>Brampton Rose</p><p>Boschendal Sauvignon
  Blanc</p><p>Boschendal Chardonnay Pinot Noir</p><p>Kanonkop Kadette Cape 
 Blend</p><p>Boschendal Brut</p><p>Boschendal Brut Rose</p><p><br></p><p>- 
 Mixers</p><p><br></p><p>Soft Drinks</p><p>RedBull</p><p>Waters</p><p><br><
 /p><p>Tickets on sale: www.howler.co.za/WineNot2020</p><p><br></p><p>Not a
  wine lover? No problem.</p><p>A full bar will be available with a variety
  of drinks.</p>
LOCATION:pin Levelthree Premium Venue 14A Kramer Road\, 2196 Johannesburg\,
  Gauteng\, Johannesburg\, Gauteng\, 2090
SUMMARY:Wine Not New Years Eve
URL;VALUE=URI:https://www.howler.co.za/WineNot2020
END:VEVENT
END:VCALENDAR
