BEGIN:VCALENDAR
VERSION:2.0
PRODID:icalendar-ruby
CALSCALE:GREGORIAN
METHOD:PUBLISH
BEGIN:VEVENT
DTSTAMP:20260421T165623Z
UID:134ff81e-8737-4c3b-9ef6-ebfc2558ffbc
DTSTART:20250927T150000
DTEND:20250928T000000
DESCRIPTION:<p>Come join us for a night filled with your favourite rnb! 
 ❤️</p>
LOCATION:Shop 116\, Kyalami Corner\, Begonia Road\, Witpoort\, Midrand\, Ga
 uteng
SUMMARY:You\, Me & RnB - Johannesburg 
URL;VALUE=URI:https://www.howler.co.za/ymrnb-jozi
END:VEVENT
END:VCALENDAR
